BEGIN:VCALENDAR
VERSION:2.0
PRODID:-//Global Minnesota - ECPv6.15.17.1//NONSGML v1.0//EN
CALSCALE:GREGORIAN
METHOD:PUBLISH
X-WR-CALNAME:Global Minnesota
X-ORIGINAL-URL:https://globalminnesota.org
X-WR-CALDESC:Events for Global Minnesota
REFRESH-INTERVAL;VALUE=DURATION:PT1H
X-Robots-Tag:noindex
X-PUBLISHED-TTL:PT1H
BEGIN:VTIMEZONE
TZID:America/Chicago
BEGIN:DAYLIGHT
TZOFFSETFROM:-0600
TZOFFSETTO:-0500
TZNAME:CDT
DTSTART:20250309T080000
END:DAYLIGHT
BEGIN:STANDARD
TZOFFSETFROM:-0500
TZOFFSETTO:-0600
TZNAME:CST
DTSTART:20251102T070000
END:STANDARD
BEGIN:DAYLIGHT
TZOFFSETFROM:-0600
TZOFFSETTO:-0500
TZNAME:CDT
DTSTART:20260308T080000
END:DAYLIGHT
BEGIN:STANDARD
TZOFFSETFROM:-0500
TZOFFSETTO:-0600
TZNAME:CST
DTSTART:20261101T070000
END:STANDARD
BEGIN:DAYLIGHT
TZOFFSETFROM:-0600
TZOFFSETTO:-0500
TZNAME:CDT
DTSTART:20270314T080000
END:DAYLIGHT
BEGIN:STANDARD
TZOFFSETFROM:-0500
TZOFFSETTO:-0600
TZNAME:CST
DTSTART:20271107T070000
END:STANDARD
END:VTIMEZONE
BEGIN:VEVENT
DTSTART;TZID=America/Chicago:20260622T173000
DTEND;TZID=America/Chicago:20260622T193000
DTSTAMP:20260422T120955
CREATED:20260420T142311Z
LAST-MODIFIED:20260420T165928Z
UID:10001286-1782149400-1782156600@globalminnesota.org
SUMMARY:Get To Know Global Minnesota
DESCRIPTION:This event is being held in-person and is open to everyone. New members and potential members are encouraged to attend. \nFor 75 years\, Global Minnesota has forged connections between Minnesota and the world through education in Minnesota schools\, global professional exchanges\, world-class events\, grassroots discussion groups\, international student initiatives\, and corporate roundtables. \nDiscover how the organization connected over 23\,000 participants this past year by joining this open house! You’ll learn about program opportunities\, explore ways to participate\, and discover what membership is all about. \nSnacks\, beverages\, and a door prize will be provided. We hope to see you there! \nRegister Here
URL:https://globalminnesota.org/event/get-to-know-global-minnesota-8/
LOCATION:Global Minnesota\, 1901 University Ave. SE\, Minneapolis\, MN\, 55414
ATTACH;FMTTYPE=image/jpeg:https://globalminnesota.org/wp-content/uploads/2025/08/Staff-Photo-2025-scaled.jpg
ORGANIZER;CN="Global Minnesota":MAILTO:info@globalminnesota.org
GEO:44.976852;-93.229284
X-APPLE-STRUCTURED-LOCATION;VALUE=URI;X-ADDRESS=Global Minnesota 1901 University Ave. SE Minneapolis MN 55414;X-APPLE-RADIUS=500;X-TITLE=1901 University Ave. SE:geo:-93.229284,44.976852
END:VEVENT
END:VCALENDAR