BEGIN:VCALENDAR
VERSION:2.0
PRODID:-//Global Minnesota - ECPv6.15.17.1//NONSGML v1.0//EN
CALSCALE:GREGORIAN
METHOD:PUBLISH
X-ORIGINAL-URL:https://globalminnesota.org
X-WR-CALDESC:Events for Global Minnesota
REFRESH-INTERVAL;VALUE=DURATION:PT1H
X-Robots-Tag:noindex
X-PUBLISHED-TTL:PT1H
BEGIN:VTIMEZONE
TZID:America/Chicago
BEGIN:DAYLIGHT
TZOFFSETFROM:-0600
TZOFFSETTO:-0500
TZNAME:CDT
DTSTART:20220313T080000
END:DAYLIGHT
BEGIN:STANDARD
TZOFFSETFROM:-0500
TZOFFSETTO:-0600
TZNAME:CST
DTSTART:20221106T070000
END:STANDARD
BEGIN:DAYLIGHT
TZOFFSETFROM:-0600
TZOFFSETTO:-0500
TZNAME:CDT
DTSTART:20230312T080000
END:DAYLIGHT
BEGIN:STANDARD
TZOFFSETFROM:-0500
TZOFFSETTO:-0600
TZNAME:CST
DTSTART:20231105T070000
END:STANDARD
BEGIN:DAYLIGHT
TZOFFSETFROM:-0600
TZOFFSETTO:-0500
TZNAME:CDT
DTSTART:20240310T080000
END:DAYLIGHT
BEGIN:STANDARD
TZOFFSETFROM:-0500
TZOFFSETTO:-0600
TZNAME:CST
DTSTART:20241103T070000
END:STANDARD
END:VTIMEZONE
BEGIN:VEVENT
DTSTART;TZID=America/Chicago:20231003T163000
DTEND;TZID=America/Chicago:20231003T180000
DTSTAMP:20260424T150001
CREATED:20230926T210018Z
LAST-MODIFIED:20230927T164451Z
UID:10001083-1696350600-1696356000@globalminnesota.org
SUMMARY:U.S. Policy Toward Latin America with Ambassador Ayalde
DESCRIPTION:This event is being held in-person and is open to everyone. \nJoin the Humphrey School of Public Affairs and Global Minnesota for a conversation with former U.S. Ambassador to Brazil and Paraguay\, Liliana Ayalde. Ambassador Ayalde will delve into critical topics concerning U.S. policy towards Latin America and the Caribbean. Ambassador Ayalde has held senior leadership positions at the U.S. State Department and USAID\, and at the United States Southern Command\, and will provide insights into the region’s challenges and opportunities. These include migration and the U.S. southern border\, human rights\, economic and political development\, and Chinese involvement in Latin America. \n\nAbout Ambassador Ayalde\nAmbassador Ayalde retired from the U.S. Foreign Service following a distinguished 38-year career. She held senior positions in the Department of State and the U.S. Agency for International Development (USAID)\, dedicating her diplomatic service to foreign affairs\, development\, defense\, and security in Latin America and the Caribbean. Ambassador Ayalde served as the Civilian Deputy to the Commander and Foreign Policy Advisor at the United States Southern Command in Miami until September 2019 and was appointed as the U.S. Ambassador to the Federative Republic of Brazil between 2013-2016. Prior to this appointment she served as the Deputy Assistant Secretary for Western Hemisphere Affairs in the Department of State. She was also the Senior Deputy Assistant Administrator for the Latin American and Caribbean Bureau for USAID. Following her assignment as USAID Mission Director in Colombia\, where she had responsibility for the development assistance portfolio under Plan Colombia\, she was confirmed as the U.S. Ambassador to the Republic of Paraguay. She also held assignments in Bangladesh\, Guatemala\, Nicaragua\, and Bolivia. \nAmbassador Ayalde is currently a senior advisor for the Center for Strategic and International Studies (CSIS)\, and serves on several boards such as the Wilson Center’s Latin American Program\, the National Endowment for Democracy (NED) and IREX\, a non-profit organization focused on development\, governance and education. She is a member of the American Academy of Diplomacy and serves on the International Advisory Group of Global Americans. She is the recipient of numerous honors and awards\, including USAID’s Distinguished Career Award\, the Department of State’s Distinguished Service Honor Award\, and the Chairman of the Joint Chiefs of Staff’s Joint Distinguished Civilian Service Award\, the highest award given to a civilian by the Department of Defense. She was also honored with recognitions by governments in countries she served\, including the Order of San Carlos by the Government of Colombia\, the Order for Gran Cruz by the Government of Paraguay\, and received several recognitions by the Government of Brazil. Ambassador Ayalde earned her B.A. from the School of International Studies at American University in Washington\, D.C. and a M.P.H. from Tulane University in Louisiana. She is fluent in Spanish and Portuguese and has a working knowledge of French. \nPresented in partnership with Humphrey School of Public Affairs. \nLearn More
URL:https://globalminnesota.org/event/u-s-policy-toward-latin-america-with-ambassador-ayalde/
LOCATION:Humphrey School of Public Affairs\, Humphrey Forum\, 301 19th Ave. S\, Rm 105\, Minneapolis\, 55454
ATTACH;FMTTYPE=image/jpeg:https://globalminnesota.org/wp-content/uploads/2023/09/Brazil.jpg
GEO:44.9713188;-93.244621
X-APPLE-STRUCTURED-LOCATION;VALUE=URI;X-ADDRESS=Humphrey School of Public Affairs Humphrey Forum 301 19th Ave. S Rm 105 Minneapolis 55454;X-APPLE-RADIUS=500;X-TITLE=301 19th Ave. S\, Rm 105:geo:-93.244621,44.9713188
END:VEVENT
END:VCALENDAR