BEGIN:VCALENDAR
VERSION:2.0
PRODID:-//Global Minnesota - ECPv6.15.17.1//NONSGML v1.0//EN
CALSCALE:GREGORIAN
METHOD:PUBLISH
X-ORIGINAL-URL:https://globalminnesota.org
X-WR-CALDESC:Events for Global Minnesota
REFRESH-INTERVAL;VALUE=DURATION:PT1H
X-Robots-Tag:noindex
X-PUBLISHED-TTL:PT1H
BEGIN:VTIMEZONE
TZID:America/Chicago
BEGIN:DAYLIGHT
TZOFFSETFROM:-0600
TZOFFSETTO:-0500
TZNAME:CDT
DTSTART:20150308T080000
END:DAYLIGHT
BEGIN:STANDARD
TZOFFSETFROM:-0500
TZOFFSETTO:-0600
TZNAME:CST
DTSTART:20151101T070000
END:STANDARD
BEGIN:DAYLIGHT
TZOFFSETFROM:-0600
TZOFFSETTO:-0500
TZNAME:CDT
DTSTART:20160313T080000
END:DAYLIGHT
BEGIN:STANDARD
TZOFFSETFROM:-0500
TZOFFSETTO:-0600
TZNAME:CST
DTSTART:20161106T070000
END:STANDARD
BEGIN:DAYLIGHT
TZOFFSETFROM:-0600
TZOFFSETTO:-0500
TZNAME:CDT
DTSTART:20170312T080000
END:DAYLIGHT
BEGIN:STANDARD
TZOFFSETFROM:-0500
TZOFFSETTO:-0600
TZNAME:CST
DTSTART:20171105T070000
END:STANDARD
END:VTIMEZONE
BEGIN:VEVENT
DTSTART;TZID=America/Chicago:20160216T120000
DTEND;TZID=America/Chicago:20160216T140000
DTSTAMP:20260425T110557
CREATED:20160209T002759Z
LAST-MODIFIED:20160211T032354Z
UID:10000623-1455624000-1455631200@globalminnesota.org
SUMMARY:Culture Through Cuisine: Kurdistan
DESCRIPTION:Enjoy a sampling of traditional Kurdish fare and hear about the deep culture and history of one of the largest ethnic groups in West Asia\, the Kurds\, at the next Culture Through Cuisine at Babani’s in St. Paul. \nThe first Kurdish restaurant to open in the U.S.\, family-owned Babani’s serves up dishes representing the cuisine of Iraqi Kurdistan. \nOwner and chef\, Rodwan Nakshabandi\, will speak about the blend of culture and cuisine of his native Kurdistan. Join us for a delicious evening that will include a diverse menu: \n\nNaska nan na paneer (Kurdish bread and cheese platter)\nNiskena (lentil soup)\nDowjic (chicken yogurt soup)\nKubay sawar / kubay brinj (beef dumpling)\nChicken tawa\nVegetarian biryani\nBaklava\nKurdish Tea\n\nCost Includes: dinner\, nonalcoholic beverages\, tax\, and gratuity. \nAdvance registration required.
URL:https://globalminnesota.org/event/culture-through-cuisine-kurdistan/
LOCATION:Babani’s\, 544 St. Peter St.\, St. Paul\, MN\, 55402\, United States
CATEGORIES:Featured
ATTACH;FMTTYPE=image/jpeg:https://globalminnesota.org/wp-content/uploads/2016/02/babanis.jpg
ORGANIZER;CN="Global Minnesota":MAILTO:info@globalminnesota.org
GEO:44.9497562;-93.0998554
X-APPLE-STRUCTURED-LOCATION;VALUE=URI;X-ADDRESS=Babani’s 544 St. Peter St. St. Paul MN 55402 United States;X-APPLE-RADIUS=500;X-TITLE=544 St. Peter St.:geo:-93.0998554,44.9497562
END:VEVENT
END:VCALENDAR