BEGIN:VCALENDAR
VERSION:2.0
PRODID:-//Global Minnesota - ECPv6.15.17.1//NONSGML v1.0//EN
CALSCALE:GREGORIAN
METHOD:PUBLISH
X-WR-CALNAME:Global Minnesota
X-ORIGINAL-URL:https://globalminnesota.org
X-WR-CALDESC:Events for Global Minnesota
REFRESH-INTERVAL;VALUE=DURATION:PT1H
X-Robots-Tag:noindex
X-PUBLISHED-TTL:PT1H
BEGIN:VTIMEZONE
TZID:America/Chicago
BEGIN:DAYLIGHT
TZOFFSETFROM:-0600
TZOFFSETTO:-0500
TZNAME:CDT
DTSTART:20230312T080000
END:DAYLIGHT
BEGIN:STANDARD
TZOFFSETFROM:-0500
TZOFFSETTO:-0600
TZNAME:CST
DTSTART:20231105T070000
END:STANDARD
BEGIN:DAYLIGHT
TZOFFSETFROM:-0600
TZOFFSETTO:-0500
TZNAME:CDT
DTSTART:20240310T080000
END:DAYLIGHT
BEGIN:STANDARD
TZOFFSETFROM:-0500
TZOFFSETTO:-0600
TZNAME:CST
DTSTART:20241103T070000
END:STANDARD
BEGIN:DAYLIGHT
TZOFFSETFROM:-0600
TZOFFSETTO:-0500
TZNAME:CDT
DTSTART:20250309T080000
END:DAYLIGHT
BEGIN:STANDARD
TZOFFSETFROM:-0500
TZOFFSETTO:-0600
TZNAME:CST
DTSTART:20251102T070000
END:STANDARD
END:VTIMEZONE
BEGIN:VEVENT
DTSTART;TZID=America/Chicago:20240321T090000
DTEND;TZID=America/Chicago:20240321T110000
DTSTAMP:20260419T150557
CREATED:20240125T172444Z
LAST-MODIFIED:20240304T195319Z
UID:10001106-1711011600-1711018800@globalminnesota.org
SUMMARY:SDG Roundtable: Resilience in a Water-Challenged World
DESCRIPTION:This free event is being held in-person and virtually and is open to everyone. \nThe world’s water challenges seem to be getting worse. Water scarcity has become acute in some parts of the world\, while floods and storm surges occur with greater frequency in others. Businesses are watching closely to make sure their own water needs are met sustainably. Even the Land of 10\,000 lakes has had challenges with overuse of groundwater in recent dry years. The United Nations’ Sustainable Development Goals (SDGs) are designed to tackle some of the world’s largest development problems\, so what can we learn from best practices for sustainable water use around the globe? What can international companies tell us about how and where they’re implementing potential solutions? \nJoin us for the next Sustainable Development Goals Roundtable on March 21\, when we partner with Global Minnesota Corporate Member Cargill to learn about the work companies are doing to advance sustainable water use. In celebration of World Water Day on March 22\, don’t miss this opportunity to join the global conversation\, gain fresh insights\, and network with Minnesota professionals. \n  \nKeynote Speaker \nHeather Tansey\, Vice President of Environmental Sustainability\, Cargill \nAdditional Speakers \nMartin Bureau\, VP Innovation & Head of PFAS Centre of Excellence\, Altra Sanexen \nAnna Picchetti\, Vice President of Marketing and Strategy\, Uponor North America \nIf you require any accommodations\, please contact our Corporate Relations Officer Steve Riedel at sriedel@globalminnesota.org. \nCorporate Member Resources: Open the link to see how Global Minnesota corporate members offer expertise\, services\, or technology that can help with your organization’s sustainability goals. \nIf you are registering for this event from outside the United States\, please go here.
URL:https://globalminnesota.org/event/sdg-roundtable-resilience-in-a-water-challenged-world/
LOCATION:Cargill\, 15407 McGinty Road West\, Wayzata\, 55391\, United States
ATTACH;FMTTYPE=image/jpeg:https://globalminnesota.org/wp-content/uploads/2023/03/SDG-Roundtable-scaled.jpeg
ORGANIZER;CN="Global Minnesota":MAILTO:info@globalminnesota.org
GEO:44.9523155;-93.477117
X-APPLE-STRUCTURED-LOCATION;VALUE=URI;X-ADDRESS=Cargill 15407 McGinty Road West Wayzata 55391 United States;X-APPLE-RADIUS=500;X-TITLE=15407 McGinty Road West:geo:-93.477117,44.9523155
END:VEVENT
END:VCALENDAR