BEGIN:VCALENDAR
VERSION:2.0
PRODID:-//Global Minnesota - ECPv6.15.17.1//NONSGML v1.0//EN
CALSCALE:GREGORIAN
METHOD:PUBLISH
X-WR-CALNAME:Global Minnesota
X-ORIGINAL-URL:https://globalminnesota.org
X-WR-CALDESC:Events for Global Minnesota
REFRESH-INTERVAL;VALUE=DURATION:PT1H
X-Robots-Tag:noindex
X-PUBLISHED-TTL:PT1H
BEGIN:VTIMEZONE
TZID:America/Chicago
BEGIN:DAYLIGHT
TZOFFSETFROM:-0600
TZOFFSETTO:-0500
TZNAME:CDT
DTSTART:20180311T080000
END:DAYLIGHT
BEGIN:STANDARD
TZOFFSETFROM:-0500
TZOFFSETTO:-0600
TZNAME:CST
DTSTART:20181104T070000
END:STANDARD
BEGIN:DAYLIGHT
TZOFFSETFROM:-0600
TZOFFSETTO:-0500
TZNAME:CDT
DTSTART:20190310T080000
END:DAYLIGHT
BEGIN:STANDARD
TZOFFSETFROM:-0500
TZOFFSETTO:-0600
TZNAME:CST
DTSTART:20191103T070000
END:STANDARD
BEGIN:DAYLIGHT
TZOFFSETFROM:-0600
TZOFFSETTO:-0500
TZNAME:CDT
DTSTART:20200308T080000
END:DAYLIGHT
BEGIN:STANDARD
TZOFFSETFROM:-0500
TZOFFSETTO:-0600
TZNAME:CST
DTSTART:20201101T070000
END:STANDARD
END:VTIMEZONE
BEGIN:VEVENT
DTSTART;TZID=America/Chicago:20190722T180000
DTEND;TZID=America/Chicago:20190722T200000
DTSTAMP:20260421T215326
CREATED:20190514T164531Z
LAST-MODIFIED:20190717T141448Z
UID:10000796-1563818400-1563825600@globalminnesota.org
SUMMARY:Culture Through Cuisine: Ethiopia
DESCRIPTION:This event is SOLD OUT. Registration is closed. \nThe Twin Cities is home to one of the largest Ethiopian diaspora populations in the United States\, including a large number of ethnic Oromo people. And\, the Minneapolis-St. Paul area has a correspondingly delicious and vibrant dining scene\, such as Dilla’s Ethiopian Restaurant. Positioned as a stop along ancient trade routes\, Ethiopia boasts cuisine that has creatively infused cardamom\, cloves\, cinnamon\, fenugreek\, turmeric\, and other spices for centuries. \nJoin us at Dilla’s Ethiopian Restaurant for a traditional Ethiopian meal of beef\, lamb\, chicken\, and vegetables cooked in a variety of flavors including Ethiopia-grown chili peppers\, ginger\, garlic\, onions\, basil\, and more. We’ll hear from representatives from United Oromo Voices on the community and culture of the local Oromo diaspora. The evening will also include a traditional tea ceremony. \nRegistration includes dinner\, non-alcoholic beverages\, tax\, and gratuity. Cash bar also available. Advance registration and prepayment required. \nEvent vouchers accepted. To register with a voucher\, please call us at 612.625.1662. You must bring voucher(s) to the event to redeem. \nPresented in partnership with United Oromo Voices.
URL:https://globalminnesota.org/event/culture-through-cuisine-ethiopia/
LOCATION:Dilla’s Ethiopian Restaurant\, 1813 Riverside Ave. N\, Minneapolis\, MN\, 55454
ATTACH;FMTTYPE=image/jpeg:https://globalminnesota.org/wp-content/uploads/2019/05/Dillas-e1557852436909.jpg
ORGANIZER;CN="Global Minnesota":MAILTO:info@globalminnesota.org
GEO:44.9697337;-93.2465403
X-APPLE-STRUCTURED-LOCATION;VALUE=URI;X-ADDRESS=Dilla’s Ethiopian Restaurant 1813 Riverside Ave. N Minneapolis MN 55454;X-APPLE-RADIUS=500;X-TITLE=1813 Riverside Ave. N:geo:-93.2465403,44.9697337
END:VEVENT
END:VCALENDAR