BEGIN:VCALENDAR
VERSION:2.0
PRODID:-//Global Minnesota - ECPv6.15.17.1//NONSGML v1.0//EN
CALSCALE:GREGORIAN
METHOD:PUBLISH
X-WR-CALNAME:Global Minnesota
X-ORIGINAL-URL:https://globalminnesota.org
X-WR-CALDESC:Events for Global Minnesota
REFRESH-INTERVAL;VALUE=DURATION:PT1H
X-Robots-Tag:noindex
X-PUBLISHED-TTL:PT1H
BEGIN:VTIMEZONE
TZID:America/Chicago
BEGIN:DAYLIGHT
TZOFFSETFROM:-0600
TZOFFSETTO:-0500
TZNAME:CDT
DTSTART:20220313T080000
END:DAYLIGHT
BEGIN:STANDARD
TZOFFSETFROM:-0500
TZOFFSETTO:-0600
TZNAME:CST
DTSTART:20221106T070000
END:STANDARD
BEGIN:DAYLIGHT
TZOFFSETFROM:-0600
TZOFFSETTO:-0500
TZNAME:CDT
DTSTART:20230312T080000
END:DAYLIGHT
BEGIN:STANDARD
TZOFFSETFROM:-0500
TZOFFSETTO:-0600
TZNAME:CST
DTSTART:20231105T070000
END:STANDARD
BEGIN:DAYLIGHT
TZOFFSETFROM:-0600
TZOFFSETTO:-0500
TZNAME:CDT
DTSTART:20240310T080000
END:DAYLIGHT
BEGIN:STANDARD
TZOFFSETFROM:-0500
TZOFFSETTO:-0600
TZNAME:CST
DTSTART:20241103T070000
END:STANDARD
END:VTIMEZONE
BEGIN:VEVENT
DTSTART;TZID=America/Chicago:20230822T180000
DTEND;TZID=America/Chicago:20230822T200000
DTSTAMP:20260424T161440
CREATED:20230713T173111Z
LAST-MODIFIED:20230809T140806Z
UID:10001071-1692727200-1692734400@globalminnesota.org
SUMMARY:Culture Through Cuisine: Nepal and Northern India
DESCRIPTION:This event is being held in-person and is open to everyone.  \nHelp us round out the summer with the next event in our Culture through Cuisine series as we head to St. Paul to visit Everest on Grand\, a North Indian and Nepali restaurant. We’ll hear the stories behind each dish on the menu from restaurant owner\, Roshan Chaudhary \nAppetizers\, dinner\, dessert\, and a non-alcoholic beverage are included with registration. Additional beverages\, appetizers\, and desserts are available for individual purchase. \n  \n  \nMENU: \n\nAppetizers:\nChicken Momo – Ground chicken with onion\, ginger\, garlic\, cilantro and spices in a wheat flour pastry and steamed. Served with special Momo sauce.\nVeggie Samosa – Deliciously spiced mixture of potato\, peas stuffed into pyramid shaped pastry and fried. \n\n\nMain Course:\nPalak Paneer with Rice – Spinach and paneer (cheese) cooked with ghee in homemade special tomato-cream sauce.\nChicken Tikka Masala – Marinated chicken breast meat cooked in homemade special tikka-cream sauce. \n\n\nDessert:\nKheer – Rice slowly cooked in milk and seasoned with sugar\, raisins\, cardamom\, cloves\, and cinnamon. \n\n\nDrink: \nOne juice or soda per person\n\n  \nPlease reach out to Katie Kelley at kkelley@globalminnesota.org with any questions\, dietary restrictions\, or accessibility accommodations.
URL:https://globalminnesota.org/event/culture-through-cuisine-nepal-and-northern-india/
LOCATION:Everest on Grand\, 1278 Grand Ave\, Saint Paul\, MN\, 55105\, United States
ATTACH;FMTTYPE=image/jpeg:https://globalminnesota.org/wp-content/uploads/2023/07/Nepalese-Food-scaled.jpeg
ORGANIZER;CN="Global Minnesota":MAILTO:info@globalminnesota.org
GEO:44.9398472;-93.1540938
X-APPLE-STRUCTURED-LOCATION;VALUE=URI;X-ADDRESS=Everest on Grand 1278 Grand Ave Saint Paul MN 55105 United States;X-APPLE-RADIUS=500;X-TITLE=1278 Grand Ave:geo:-93.1540938,44.9398472
END:VEVENT
END:VCALENDAR