BEGIN:VCALENDAR
VERSION:2.0
PRODID:-//Global Minnesota - ECPv6.15.17.1//NONSGML v1.0//EN
CALSCALE:GREGORIAN
METHOD:PUBLISH
X-WR-CALNAME:Global Minnesota
X-ORIGINAL-URL:https://globalminnesota.org
X-WR-CALDESC:Events for Global Minnesota
REFRESH-INTERVAL;VALUE=DURATION:PT1H
X-Robots-Tag:noindex
X-PUBLISHED-TTL:PT1H
BEGIN:VTIMEZONE
TZID:America/Chicago
BEGIN:DAYLIGHT
TZOFFSETFROM:-0600
TZOFFSETTO:-0500
TZNAME:CDT
DTSTART:20170312T080000
END:DAYLIGHT
BEGIN:STANDARD
TZOFFSETFROM:-0500
TZOFFSETTO:-0600
TZNAME:CST
DTSTART:20171105T070000
END:STANDARD
BEGIN:DAYLIGHT
TZOFFSETFROM:-0600
TZOFFSETTO:-0500
TZNAME:CDT
DTSTART:20180311T080000
END:DAYLIGHT
BEGIN:STANDARD
TZOFFSETFROM:-0500
TZOFFSETTO:-0600
TZNAME:CST
DTSTART:20181104T070000
END:STANDARD
BEGIN:DAYLIGHT
TZOFFSETFROM:-0600
TZOFFSETTO:-0500
TZNAME:CDT
DTSTART:20190310T080000
END:DAYLIGHT
BEGIN:STANDARD
TZOFFSETFROM:-0500
TZOFFSETTO:-0600
TZNAME:CST
DTSTART:20191103T070000
END:STANDARD
BEGIN:DAYLIGHT
TZOFFSETFROM:-0600
TZOFFSETTO:-0500
TZNAME:CDT
DTSTART:20200308T080000
END:DAYLIGHT
BEGIN:STANDARD
TZOFFSETFROM:-0500
TZOFFSETTO:-0600
TZNAME:CST
DTSTART:20201101T070000
END:STANDARD
BEGIN:DAYLIGHT
TZOFFSETFROM:-0600
TZOFFSETTO:-0500
TZNAME:CDT
DTSTART:20210314T080000
END:DAYLIGHT
BEGIN:STANDARD
TZOFFSETFROM:-0500
TZOFFSETTO:-0600
TZNAME:CST
DTSTART:20211107T070000
END:STANDARD
BEGIN:DAYLIGHT
TZOFFSETFROM:-0600
TZOFFSETTO:-0500
TZNAME:CDT
DTSTART:20220313T080000
END:DAYLIGHT
BEGIN:STANDARD
TZOFFSETFROM:-0500
TZOFFSETTO:-0600
TZNAME:CST
DTSTART:20221106T070000
END:STANDARD
BEGIN:DAYLIGHT
TZOFFSETFROM:-0600
TZOFFSETTO:-0500
TZNAME:CDT
DTSTART:20230312T080000
END:DAYLIGHT
BEGIN:STANDARD
TZOFFSETFROM:-0500
TZOFFSETTO:-0600
TZNAME:CST
DTSTART:20231105T070000
END:STANDARD
BEGIN:DAYLIGHT
TZOFFSETFROM:-0600
TZOFFSETTO:-0500
TZNAME:CDT
DTSTART:20240310T080000
END:DAYLIGHT
BEGIN:STANDARD
TZOFFSETFROM:-0500
TZOFFSETTO:-0600
TZNAME:CST
DTSTART:20241103T070000
END:STANDARD
BEGIN:DAYLIGHT
TZOFFSETFROM:-0600
TZOFFSETTO:-0500
TZNAME:CDT
DTSTART:20250309T080000
END:DAYLIGHT
BEGIN:STANDARD
TZOFFSETFROM:-0500
TZOFFSETTO:-0600
TZNAME:CST
DTSTART:20251102T070000
END:STANDARD
BEGIN:DAYLIGHT
TZOFFSETFROM:-0600
TZOFFSETTO:-0500
TZNAME:CDT
DTSTART:20260308T080000
END:DAYLIGHT
BEGIN:STANDARD
TZOFFSETFROM:-0500
TZOFFSETTO:-0600
TZNAME:CST
DTSTART:20261101T070000
END:STANDARD
END:VTIMEZONE
BEGIN:VEVENT
DTSTART;TZID=America/Chicago:20251211T180000
DTEND;TZID=America/Chicago:20251211T203000
DTSTAMP:20260419T070820
CREATED:20250813T174819Z
LAST-MODIFIED:20251208T174456Z
UID:10001234-1765476000-1765485000@globalminnesota.org
SUMMARY:2025 WorldQuest International Trivia Competition
DESCRIPTION:This event is being held in-person and is open to everyone. Registration is now CLOSED. Please contact Addy Cross at across@globalminnesota.org with any questions. \nLooking for a fun night of international trivia and team spirit? Assemble your team of eight people for the 2025 Community WorldQuest competition. This exciting trivia game tests your knowledge on topics spanning geography\, current events\, global leaders\, world cultures\, and recent editions of the Global Connect newsletter. \nPrizes will be awarded for top placing teams and the most creative Team Spirit. Themes and costumes encouraged! Invite your friends\, family\, colleagues\, or neighbors to join the fun today! Don’t have a team? You can sign up individually or in small groups and we’ll pair your with other excellent team members. \nEvent Details\n\n\n\nRegistration is available for teams of up to 8\nDiscount for Global Minnesota members (at least two participants on a team need to be a member at the Supporter level or above to receive discounted rate).\nDiscount for college & university students (all participants on a team must show proof of student status to receive discounted rate)\nLocation: Coffman Memorial Union Great Hall\nRenowned host Tane Danger will serve as emcee!\nWinning teams will receive bragging rights and fun prizes. Best Team Spirit will be awarded as well.\nCheck-in and buffet dinner will start at 6:00 pm with the competition kicking off at 7:00 pm. A cash bar will be available.\nWorldQuest scoring is automatic and final.\nParking: Parking is available in several nearby parking ramps on the University of Minnesota campus.\n\n\n\nPlease contact Addy Cross at across@globalminnesota.org for questions\, accessibility accommodations\, or dietary restrictions. \nThe University of Minnesota is not endorsing or sponsoring the activities conducted by Global Minnesota on the University of Minnesota campus. The relationship between the University of Minnesota and Global Minnesota is solely that of licensor and licensee.
URL:https://globalminnesota.org/event/2025-worldquest-international-trivia-competition/
LOCATION:Great Hall – Coffman Memorial Union\, 300 Washington Ave. S.E.\, Minneapolis\, MN\, 55455
ATTACH;FMTTYPE=image/png:https://globalminnesota.org/wp-content/uploads/2025/08/WorldQuest-Trivia-2025_Square.png
ORGANIZER;CN="Global Minnesota":MAILTO:info@globalminnesota.org
GEO:44.9735585;-93.2346708
X-APPLE-STRUCTURED-LOCATION;VALUE=URI;X-ADDRESS=Great Hall – Coffman Memorial Union 300 Washington Ave. S.E. Minneapolis MN 55455;X-APPLE-RADIUS=500;X-TITLE=300 Washington Ave. S.E.:geo:-93.2346708,44.9735585
END:VEVENT
BEGIN:VEVENT
DTSTART;TZID=America/Chicago:20241212T180000
DTEND;TZID=America/Chicago:20241212T203000
DTSTAMP:20260419T070820
CREATED:20240930T140556Z
LAST-MODIFIED:20241206T221459Z
UID:10001166-1734026400-1734035400@globalminnesota.org
SUMMARY:2024 WorldQuest International Trivia Competition
DESCRIPTION:This event is being held in-person and is open to everyone. Registration is now CLOSED. Please contact Katie Kelley at kkelley@globalminnesota.org with any questions. \nCalling all global trivia enthusiasts! Get ready for an evening of food\, fun\, and facts. Join us for the 2024 Community WorldQuest competition to determine Minnesota’s next global trivia champion. Gather your friends to assemble a team for our popular annual battle of international wits. Topics will feature national flags\, capitals\, geography\, people in the news\, current events\, and topics from our Global Connect newsletter. Study up on past issues of the Global Connect here! \nThis exciting event includes a buffet dinner (with regular\, gluten free and vegan options)\, beverages\, a cash bar\, and lots of fun. Space is limited\, so sign up today. \nEvent Details\n\n\n\nRegistration is available for teams of up to 8\nDiscount for Global Minnesota members (at least one participant on a team needs to be a member at the Supporter level or above to receive member group rate).\nNew location: Coffman Memorial Union Great Hall\nMPR’s Tom Crann will be returning as Emcee!\nWinning teams will receive bragging rights and fun prizes. Best Team Spirit will be awarded as well.\nCheck-in and buffet dinner will start at 6:00 pm with the competition kicking off at 7:00 pm. A cash bar will be available.\nHigh school\, college and university students can play for a discounted price.\nWorldQuest scoring is automatic and final.\nParking: Parking is available in several nearby parking ramps on the University of Minnesota campus.\n\n\n\nThanks to event sponsor Horton\, Inc.! \nIf you require an accessibility accommodation\, please contact Events Manager Katie Kelley at kkelley@globalminnesota.org at least two weeks prior to the event. \nThe University of Minnesota is not endorsing or sponsoring the activities conducted by Global Minnesota on the University of Minnesota campus. The relationship between the University of Minnesota and Global Minnesota is solely that of licensor and licensee.
URL:https://globalminnesota.org/event/2024-worldquest-international-trivia-competition/
LOCATION:Great Hall – Coffman Memorial Union\, 300 Washington Ave. S.E.\, Minneapolis\, MN\, 55455
ATTACH;FMTTYPE=image/jpeg:https://globalminnesota.org/wp-content/uploads/2024/09/WorldQuest-2023.jpg
ORGANIZER;CN="Global Minnesota":MAILTO:info@globalminnesota.org
GEO:44.9735585;-93.2346708
X-APPLE-STRUCTURED-LOCATION;VALUE=URI;X-ADDRESS=Great Hall – Coffman Memorial Union 300 Washington Ave. S.E. Minneapolis MN 55455;X-APPLE-RADIUS=500;X-TITLE=300 Washington Ave. S.E.:geo:-93.2346708,44.9735585
END:VEVENT
BEGIN:VEVENT
DTSTART;TZID=America/Chicago:20180207T153000
DTEND;TZID=America/Chicago:20180207T180000
DTSTAMP:20260419T070820
CREATED:20161101T204019Z
LAST-MODIFIED:20180117T205955Z
UID:10000670-1518017400-1518026400@globalminnesota.org
SUMMARY:2018 Academic WorldQuest
DESCRIPTION:This event is for high school students only! \nTest your students’ global IQ at our annual international knowledge competition for high school students. This FREE knowledge competition challenges high school students in a fun and interactive manner to think globally about critical issues facing the U.S. and the world. The winning team and their coach win an all-expenses-paid trip to the national competition in Washington\, D.C. in April 2018. \nAcademic WorldQuest is a youth education program of the national network of World Affairs Councils. About 4\,000 students across the country participate in competitions hosted by 50 local World Affairs Councils. \nHost: Karla Hult\, Reporter\, KARE 11 News \nStudy Guide\n\nFREE to compete\nEach high school (9-12 grade students) is invited to register up to 2 teams of 4 students. \nLimited travel scholarships may be available for teams from Greater Minnesota.\nPrizes\, pizza and light refreshments will be provided.\n\n2018 Question Topics \nNAFTA\nASEAN at 50\nIndia’s Bid for Global Power\nCombatting Climate Change\nCybersecurity\nSaudi Arabia\nThe Peacebuilding Toolkit\nAmerica’s Diplomats\nCurrent Events\nGlobal Minnesota’s focus country:  China (local competition only)\nAnd other topics noted in the Study Guide \, including some Great Decisions topics \nQuestions? Please contact Sylvia Oxenham\, K-12 Education Manager\, at 612.301.2314 \nRegister your team today! \nSee our printable flyers:  General Flyer   Teacher Flyer \nPresented in partnership with\nInstitute for Global Studies\, University of Minnesota \n  \n \n  \n  \n \n  \n  \n  \nAnd more than 100 individual donors who believe in you — Minnesota educators and students — and the importance of global education.\n 
URL:https://globalminnesota.org/event/2018-academic-worldquest/
LOCATION:Great Hall – Coffman Memorial Union\, 300 Washington Ave. S.E.\, Minneapolis\, MN\, 55455
ATTACH;FMTTYPE=image/jpeg:https://globalminnesota.org/wp-content/uploads/2016/11/4571-2-MIC-Academic-WQ-2016-0341.jpg
ORGANIZER;CN="Global Minnesota":MAILTO:info@globalminnesota.org
GEO:44.9735585;-93.2346708
X-APPLE-STRUCTURED-LOCATION;VALUE=URI;X-ADDRESS=Great Hall – Coffman Memorial Union 300 Washington Ave. S.E. Minneapolis MN 55455;X-APPLE-RADIUS=500;X-TITLE=300 Washington Ave. S.E.:geo:-93.2346708,44.9735585
END:VEVENT
END:VCALENDAR