BEGIN:VCALENDAR
VERSION:2.0
PRODID:-//Global Minnesota - ECPv6.15.17.1//NONSGML v1.0//EN
CALSCALE:GREGORIAN
METHOD:PUBLISH
X-ORIGINAL-URL:https://globalminnesota.org
X-WR-CALDESC:Events for Global Minnesota
REFRESH-INTERVAL;VALUE=DURATION:PT1H
X-Robots-Tag:noindex
X-PUBLISHED-TTL:PT1H
BEGIN:VTIMEZONE
TZID:America/Chicago
BEGIN:DAYLIGHT
TZOFFSETFROM:-0600
TZOFFSETTO:-0500
TZNAME:CDT
DTSTART:20180311T080000
END:DAYLIGHT
BEGIN:STANDARD
TZOFFSETFROM:-0500
TZOFFSETTO:-0600
TZNAME:CST
DTSTART:20181104T070000
END:STANDARD
BEGIN:DAYLIGHT
TZOFFSETFROM:-0600
TZOFFSETTO:-0500
TZNAME:CDT
DTSTART:20190310T080000
END:DAYLIGHT
BEGIN:STANDARD
TZOFFSETFROM:-0500
TZOFFSETTO:-0600
TZNAME:CST
DTSTART:20191103T070000
END:STANDARD
BEGIN:DAYLIGHT
TZOFFSETFROM:-0600
TZOFFSETTO:-0500
TZNAME:CDT
DTSTART:20200308T080000
END:DAYLIGHT
BEGIN:STANDARD
TZOFFSETFROM:-0500
TZOFFSETTO:-0600
TZNAME:CST
DTSTART:20201101T070000
END:STANDARD
BEGIN:DAYLIGHT
TZOFFSETFROM:-0600
TZOFFSETTO:-0500
TZNAME:CDT
DTSTART:20210314T080000
END:DAYLIGHT
BEGIN:STANDARD
TZOFFSETFROM:-0500
TZOFFSETTO:-0600
TZNAME:CST
DTSTART:20211107T070000
END:STANDARD
BEGIN:DAYLIGHT
TZOFFSETFROM:-0600
TZOFFSETTO:-0500
TZNAME:CDT
DTSTART:20220313T080000
END:DAYLIGHT
BEGIN:STANDARD
TZOFFSETFROM:-0500
TZOFFSETTO:-0600
TZNAME:CST
DTSTART:20221106T070000
END:STANDARD
BEGIN:DAYLIGHT
TZOFFSETFROM:-0600
TZOFFSETTO:-0500
TZNAME:CDT
DTSTART:20230312T080000
END:DAYLIGHT
BEGIN:STANDARD
TZOFFSETFROM:-0500
TZOFFSETTO:-0600
TZNAME:CST
DTSTART:20231105T070000
END:STANDARD
BEGIN:DAYLIGHT
TZOFFSETFROM:-0600
TZOFFSETTO:-0500
TZNAME:CDT
DTSTART:20240310T080000
END:DAYLIGHT
BEGIN:STANDARD
TZOFFSETFROM:-0500
TZOFFSETTO:-0600
TZNAME:CST
DTSTART:20241103T070000
END:STANDARD
BEGIN:DAYLIGHT
TZOFFSETFROM:-0600
TZOFFSETTO:-0500
TZNAME:CDT
DTSTART:20250309T080000
END:DAYLIGHT
BEGIN:STANDARD
TZOFFSETFROM:-0500
TZOFFSETTO:-0600
TZNAME:CST
DTSTART:20251102T070000
END:STANDARD
BEGIN:DAYLIGHT
TZOFFSETFROM:-0600
TZOFFSETTO:-0500
TZNAME:CDT
DTSTART:20260308T080000
END:DAYLIGHT
BEGIN:STANDARD
TZOFFSETFROM:-0500
TZOFFSETTO:-0600
TZNAME:CST
DTSTART:20261101T070000
END:STANDARD
END:VTIMEZONE
BEGIN:VEVENT
DTSTART;TZID=America/Chicago:20250623T173000
DTEND;TZID=America/Chicago:20250623T190000
DTSTAMP:20260424T045550
CREATED:20250331T152149Z
LAST-MODIFIED:20250617T223315Z
UID:10001210-1750699800-1750705200@globalminnesota.org
SUMMARY:Get To Know Global Minnesota
DESCRIPTION:This event is being held in-person and is open to everyone. New members and potential members are encouraged to attend. The location for this event has changed! Due to construction on University Avenue\, the event will now be held at KNOCK\, Inc. (1307 Glenwood Ave. Minneapolis\, MN 55405). \nWhether through K-12 education in Minnesota schools\, global professional exchanges\, grassroots discussion groups\, international student initiatives\, or high-level corporate roundtables\, Global Minnesota offers hundreds of activities each year to people of all backgrounds across the state. \nCome discover what Global Minnesota has to offer! Join our open house to meet some of Global Minnesota’s staff\, learn about our programming\, explore ways to participate\, and discover what membership is all about. \nSnacks\, beverages\, and a door prize will be provided. We hope to see you there. \nRegister Here
URL:https://globalminnesota.org/event/get-to-know-global-minnesota-5/
LOCATION:KNOCK\, Inc.\, 1307 Glenwood Ave.\, Minneapolis\, Minnesota\, 55405
ATTACH;FMTTYPE=image/png:https://globalminnesota.org/wp-content/uploads/2024/01/Staff-Photo-3.png
ORGANIZER;CN="Global Minnesota":MAILTO:info@globalminnesota.org
GEO:44.9804416;-93.2974897
X-APPLE-STRUCTURED-LOCATION;VALUE=URI;X-ADDRESS=KNOCK Inc. 1307 Glenwood Ave. Minneapolis Minnesota 55405;X-APPLE-RADIUS=500;X-TITLE=1307 Glenwood Ave.:geo:-93.2974897,44.9804416
END:VEVENT
BEGIN:VEVENT
DTSTART;TZID=America/Chicago:20240327T180000
DTEND;TZID=America/Chicago:20240327T200000
DTSTAMP:20260424T045550
CREATED:20240130T185418Z
LAST-MODIFIED:20240325T221335Z
UID:10001109-1711562400-1711569600@globalminnesota.org
SUMMARY:Global Social with Young Leaders of the Americas and Entrepreneurs
DESCRIPTION:This event is now SOLD OUT! Please contact our Events Manager Katie Kelley at kkelley@globalminnesota.org with any questions or to be put on the waitlist.  \nJoin us to welcome the next generation of international professionals! Don’t miss the next Global Social featuring the Young Leaders of the Americas and a visiting group of entrepreneurs from the International Visitor Leadership Program. Network and get to know 34 impressive visitors from over 30 locations! They will share their professional backgrounds\, cultural insights\, and experiences while staying in Minnesota. \nAppetizers and beverages are included. Global Minnesota members are invited to bring a guest at the member rate. These professionals are visiting Minnesota from Antigua and Barbuda\, Bangladesh\, Barbados\, Belarus\, Belize\, Brazil\, Cambodia\, Colombia\, Costa Rica\, El Salvador\, Finland\, Grenada\, Haiti\, Iceland\, India\, Jamaica\, Jordan\, Lebanon\, Montenegro\, Nepal\, Nigeria\, Peru\, Saudi Arabia\, Senegal\, Taiwan\, Tanzania\, Trinidad and Tobago\, Turkey\, Ukraine\, and Uruguay. \nYoung Leaders of the Americas Initiative\nThe Young Leaders of the Americas Initiative empowers entrepreneurs to strengthen their capacity to launch and advance their entrepreneurial ideas and effectively contribute to social and economic development in their communities. Since the initiative’s launch in 2015\, more than 1\,000 YLAI Fellows from Latin America\, the Caribbean\, and Canada have expanded their leadership and entrepreneurial experience through fellowships at businesses and organizations across the United States. \nInternational Visitor Leadership Program\nThe International Visitor Leadership Program is the U.S. Department of State’s premier professional exchange program. Through short-term visits to the United States\, current and emerging foreign leaders in a variety of fields experience this country firsthand and cultivate lasting relationships with their American counterparts. Professional meetings reflect the participants’ professional interests and support the foreign policy goals of the United States. \nBe a part of this special event for Global Minnesota members and their guests to meet international visitors and learn about their cultures\, countries\, and professional work. Space is limited\, so secure your registration now. \nNot yet a member? Check out the many benefits of membership and join today! \nIf you require an accessibility accommodation\, please contact our Events Manager Katie Kelley at kkelley@globalminnesota.org. 
URL:https://globalminnesota.org/event/global-social-with-young-leaders-of-the-americas-and-entrepreneurs/
LOCATION:KNOCK\, Inc.\, 1307 Glenwood Ave.\, Minneapolis\, Minnesota\, 55405
ATTACH;FMTTYPE=image/jpeg:https://globalminnesota.org/wp-content/uploads/2024/01/Global-Social-2023e.jpg
ORGANIZER;CN="Global Minnesota":MAILTO:info@globalminnesota.org
GEO:44.9804416;-93.2974897
X-APPLE-STRUCTURED-LOCATION;VALUE=URI;X-ADDRESS=KNOCK Inc. 1307 Glenwood Ave. Minneapolis Minnesota 55405;X-APPLE-RADIUS=500;X-TITLE=1307 Glenwood Ave.:geo:-93.2974897,44.9804416
END:VEVENT
BEGIN:VEVENT
DTSTART;TZID=America/Chicago:20230313T170000
DTEND;TZID=America/Chicago:20230313T190000
DTSTAMP:20260424T045550
CREATED:20230220T165348Z
LAST-MODIFIED:20230304T063757Z
UID:10001043-1678726800-1678734000@globalminnesota.org
SUMMARY:2023 Global Social with International Visitors
DESCRIPTION:This event is being held in-person and is open to Global Minnesota members and their guests. \nGlobal Minnesota is proud to host two international visitor delegations in early March. \n\nA group of 5 leading prosthetics experts from Ukraine hosted by the Congressional Office for International Leadership\n  \nA coalition of 20 leaders advancing the representation of women in politics sponsored by the U.S. State Department’s International Visitor Leadership Program. These leaders are visiting from Albania\, Brazil\, Bulgaria\, Cambodia\, Dominican Republic\, Egypt\, Eswatini\, Federated States of Micronesia\, Georgia\, Ghana\, Israel\, Italy\, Kazakhstan\, Nigeria\, Pakistan\, South Africa\, Sri Lanka\, Ukraine\, and Zimbabwe.\n\nJoin us at KNOCK\, Inc. in Minneapolis for the opportunity to warmly welcome these visitors and learn more about their important work. \nCongressional Office for International Leadership\nFounded in 1999 by Congress\, the Open World program\, administered by the Congressional Office for International Leadership\, maintains a vast network of more than 29\,000 alumni in strategic countries including Russia\, Ukraine\, and others in the Balkans\, Caucuses\, Central Asia and Eastern Europe. COIL supports international outreach efforts for Members of Congress by conducting exchanges that establish lasting professional relationships between emerging leaders and their U.S. counterparts. Program participants are provided with extensive exposure to American politics\, accountable governance\, and citizen diplomacy\, while being home hosted by American families. \nInternational Visitor Leadership Program\nThe International Visitor Leadership Program is the U.S. Department of State’s premier professional exchange program. Through short-term visits to the United States\, current and emerging foreign leaders in a variety of fields experience this country firsthand and cultivate lasting relationships with their American counterparts. Professional meetings reflect the participants’ professional interests and support the foreign policy goals of the United States. \n  \nBe a part of this exclusive event for Global Minnesota members and their guests to meet these international visitors and learn about their cultures\, countries\, and professional work. The evening includes light appetizers and beverages. \nWant to attend but not yet a member? Check out the many benefits of membership and join today! \nPresented in partnership with KNOCK\, Inc. Special thanks to Lili Hall and KNOCK\, Inc. for hosting this program. \nIf you require an accessibility accommodation\, please contact our Events Manager Katie Kelley at kkelley@globalminnesota.org. 
URL:https://globalminnesota.org/event/2023-global-social-with-international-visitors/
LOCATION:KNOCK\, Inc.\, 1307 Glenwood Ave.\, Minneapolis\, Minnesota\, 55405
ATTACH;FMTTYPE=image/jpeg:https://globalminnesota.org/wp-content/uploads/2023/02/Global-Social-Walker-Arts-scaled.jpg
ORGANIZER;CN="Global Minnesota":MAILTO:info@globalminnesota.org
GEO:44.9804416;-93.2974897
X-APPLE-STRUCTURED-LOCATION;VALUE=URI;X-ADDRESS=KNOCK Inc. 1307 Glenwood Ave. Minneapolis Minnesota 55405;X-APPLE-RADIUS=500;X-TITLE=1307 Glenwood Ave.:geo:-93.2974897,44.9804416
END:VEVENT
BEGIN:VEVENT
DTSTART;TZID=America/Chicago:20200312T180000
DTEND;TZID=America/Chicago:20200312T200000
DTSTAMP:20260424T045550
CREATED:20200228T215512Z
LAST-MODIFIED:20200311T172628Z
UID:10000853-1584036000-1584043200@globalminnesota.org
SUMMARY:Global Social with 2020 International Woman of Courage
DESCRIPTION:For members and their guests only. \nGlobal Minnesota is proud to host Susanna Liew from Malaysia\, a recipient of the 2020 U.S. Secretary of State’s International Women of Courage Award. \nEstablished in 2007\, the annual U.S. Secretary of State’s International Women of Courage Award honors women around the globe who have exemplified exceptional courage and leadership in advocating for human rights\, women’s equality\, and social progress\, often at great personal risk. This is the only U.S. Department of State award that pays tribute to emerging women leaders worldwide. \nJoin us at KNOCK\, Inc. in Minneapolis for the opportunity to meet Susanna and learn about the change she is implementing across the globe.  \nThe evening includes complimentary hors d’oeuvres and beverages. Parking lots are available on Glenwood Ave. (in front of KNOCK\, Inc.) and around the corner on Girard Ave. N. \nAbout Susanna\nFollowing the February 2017 abduction of her husband\, Christian pastor Raymond Koh\, allegedly by state agents\, Susanna Liew has fought on behalf of members of religious minorities who disappeared in Malaysia under similar circumstances or who faced persecution for their beliefs. Susanna actively pursued justice for her husband and others during the Malaysian Human Rights Commission’s (SUHAKAM) 2018-19 public inquiry into enforced disappearances and continues to push the government to investigate these cases and prosecute those responsible. Despite police harassment and death threats\, she continues to advocate for her husband and others\, not because of her faith or theirs\, but because of their rights as Malaysians. Susanna and Raymond founded Hope Community in 2004\, a nonprofit organization that works with the poor\, needy\, and marginalized. She previously served as a school principal and educator. \nPresented in partnership with KNOCK\, Inc.
URL:https://globalminnesota.org/event/global-social-with-2020-international-woman-of-courage/
LOCATION:KNOCK\, Inc.\, 1307 Glenwood Ave.\, Minneapolis\, Minnesota\, 55405
ATTACH;FMTTYPE=image/jpeg:https://globalminnesota.org/wp-content/uploads/2020/02/aj1a7947_malaysia.jpg
ORGANIZER;CN="Global Minnesota":MAILTO:info@globalminnesota.org
GEO:44.9804416;-93.2974897
X-APPLE-STRUCTURED-LOCATION;VALUE=URI;X-ADDRESS=KNOCK Inc. 1307 Glenwood Ave. Minneapolis Minnesota 55405;X-APPLE-RADIUS=500;X-TITLE=1307 Glenwood Ave.:geo:-93.2974897,44.9804416
END:VEVENT
BEGIN:VEVENT
DTSTART;TZID=America/Chicago:20190828T173000
DTEND;TZID=America/Chicago:20190828T193000
DTSTAMP:20260424T045550
CREATED:20190711T205427Z
LAST-MODIFIED:20190828T175351Z
UID:10000805-1567013400-1567020600@globalminnesota.org
SUMMARY:Global Social with International Fellows
DESCRIPTION:Online registration is closed. \nFor members and their guests only.  \nThis August\, we’re proud to welcome 2019 international fellows with the World Press Institute and the Hubert H. Humphrey Fellowship Program to Minnesota with a special reception\, hosted by Global Minnesota corporate member KNOCK\, Inc. \nThis year’s World Press Institute Fellows come from 10 countries including Algeria\, Belarus\, Finland\, and Uruguay. While in Minnesota\, they will examine the United States’ free press and media innovations with a focus on nuclear threats and security\, journalism in the era of President Trump\, the Presidential election\, and the role of social media in politics and journalism. \nLikewise\, the Humphrey Fellows represent countries from around the world including Chad\, Kosovo\, Libya\, South Korea\, and Tajikistan. In Minnesota for a year\, these fellows will learn about the U.S. cultural\, political\, and economic systems and further develop a sense of the global context in which they and their countries operate. \nBe part of this exclusive event for Global Minnesota members and their guests to meet these international fellows and learn about their cultures\, countries\, and professional work. The evening includes complimentary hors d’oeuvres and beverages. Parking lots are available on Glenwood Ave. (in front of KNOCK\, Inc.) and around the corner on Girard Ave. N. \nWant to attend but not yet a member? Check out the many benefits of membership and join today! \nPresented in partnership with KNOCK\, Inc.\, University of Minnesota Humphrey School of Public Affairs\, and the World Press Institute. 
URL:https://globalminnesota.org/event/global-social-with-international-fellows/
LOCATION:KNOCK\, Inc.\, 1307 Glenwood Ave.\, Minneapolis\, Minnesota\, 55405
ATTACH;FMTTYPE=image/jpeg:https://globalminnesota.org/wp-content/uploads/2019/07/MNG_3.14.19-072.jpg
ORGANIZER;CN="Global Minnesota":MAILTO:info@globalminnesota.org
GEO:44.9804416;-93.2974897
X-APPLE-STRUCTURED-LOCATION;VALUE=URI;X-ADDRESS=KNOCK Inc. 1307 Glenwood Ave. Minneapolis Minnesota 55405;X-APPLE-RADIUS=500;X-TITLE=1307 Glenwood Ave.:geo:-93.2974897,44.9804416
END:VEVENT
END:VCALENDAR