BEGIN:VCALENDAR
VERSION:2.0
PRODID:-//Global Minnesota - ECPv6.15.17.1//NONSGML v1.0//EN
CALSCALE:GREGORIAN
METHOD:PUBLISH
X-WR-CALNAME:Global Minnesota
X-ORIGINAL-URL:https://globalminnesota.org
X-WR-CALDESC:Events for Global Minnesota
REFRESH-INTERVAL;VALUE=DURATION:PT1H
X-Robots-Tag:noindex
X-PUBLISHED-TTL:PT1H
BEGIN:VTIMEZONE
TZID:America/Chicago
BEGIN:DAYLIGHT
TZOFFSETFROM:-0600
TZOFFSETTO:-0500
TZNAME:CDT
DTSTART:20150308T080000
END:DAYLIGHT
BEGIN:STANDARD
TZOFFSETFROM:-0500
TZOFFSETTO:-0600
TZNAME:CST
DTSTART:20151101T070000
END:STANDARD
BEGIN:DAYLIGHT
TZOFFSETFROM:-0600
TZOFFSETTO:-0500
TZNAME:CDT
DTSTART:20160313T080000
END:DAYLIGHT
BEGIN:STANDARD
TZOFFSETFROM:-0500
TZOFFSETTO:-0600
TZNAME:CST
DTSTART:20161106T070000
END:STANDARD
BEGIN:DAYLIGHT
TZOFFSETFROM:-0600
TZOFFSETTO:-0500
TZNAME:CDT
DTSTART:20170312T080000
END:DAYLIGHT
BEGIN:STANDARD
TZOFFSETFROM:-0500
TZOFFSETTO:-0600
TZNAME:CST
DTSTART:20171105T070000
END:STANDARD
BEGIN:DAYLIGHT
TZOFFSETFROM:-0600
TZOFFSETTO:-0500
TZNAME:CDT
DTSTART:20180311T080000
END:DAYLIGHT
BEGIN:STANDARD
TZOFFSETFROM:-0500
TZOFFSETTO:-0600
TZNAME:CST
DTSTART:20181104T070000
END:STANDARD
BEGIN:DAYLIGHT
TZOFFSETFROM:-0600
TZOFFSETTO:-0500
TZNAME:CDT
DTSTART:20190310T080000
END:DAYLIGHT
BEGIN:STANDARD
TZOFFSETFROM:-0500
TZOFFSETTO:-0600
TZNAME:CST
DTSTART:20191103T070000
END:STANDARD
BEGIN:DAYLIGHT
TZOFFSETFROM:-0600
TZOFFSETTO:-0500
TZNAME:CDT
DTSTART:20200308T080000
END:DAYLIGHT
BEGIN:STANDARD
TZOFFSETFROM:-0500
TZOFFSETTO:-0600
TZNAME:CST
DTSTART:20201101T070000
END:STANDARD
BEGIN:DAYLIGHT
TZOFFSETFROM:-0600
TZOFFSETTO:-0500
TZNAME:CDT
DTSTART:20210314T080000
END:DAYLIGHT
BEGIN:STANDARD
TZOFFSETFROM:-0500
TZOFFSETTO:-0600
TZNAME:CST
DTSTART:20211107T070000
END:STANDARD
BEGIN:DAYLIGHT
TZOFFSETFROM:-0600
TZOFFSETTO:-0500
TZNAME:CDT
DTSTART:20220313T080000
END:DAYLIGHT
BEGIN:STANDARD
TZOFFSETFROM:-0500
TZOFFSETTO:-0600
TZNAME:CST
DTSTART:20221106T070000
END:STANDARD
BEGIN:DAYLIGHT
TZOFFSETFROM:-0600
TZOFFSETTO:-0500
TZNAME:CDT
DTSTART:20230312T080000
END:DAYLIGHT
BEGIN:STANDARD
TZOFFSETFROM:-0500
TZOFFSETTO:-0600
TZNAME:CST
DTSTART:20231105T070000
END:STANDARD
BEGIN:DAYLIGHT
TZOFFSETFROM:-0600
TZOFFSETTO:-0500
TZNAME:CDT
DTSTART:20240310T080000
END:DAYLIGHT
BEGIN:STANDARD
TZOFFSETFROM:-0500
TZOFFSETTO:-0600
TZNAME:CST
DTSTART:20241103T070000
END:STANDARD
BEGIN:DAYLIGHT
TZOFFSETFROM:-0600
TZOFFSETTO:-0500
TZNAME:CDT
DTSTART:20250309T080000
END:DAYLIGHT
BEGIN:STANDARD
TZOFFSETFROM:-0500
TZOFFSETTO:-0600
TZNAME:CST
DTSTART:20251102T070000
END:STANDARD
BEGIN:DAYLIGHT
TZOFFSETFROM:-0600
TZOFFSETTO:-0500
TZNAME:CDT
DTSTART:20260308T080000
END:DAYLIGHT
BEGIN:STANDARD
TZOFFSETFROM:-0500
TZOFFSETTO:-0600
TZNAME:CST
DTSTART:20261101T070000
END:STANDARD
END:VTIMEZONE
BEGIN:VEVENT
DTSTART;TZID=America/Chicago:20251209T110000
DTEND;TZID=America/Chicago:20251209T120000
DTSTAMP:20260419T070612
CREATED:20251111T230923Z
LAST-MODIFIED:20251125T142511Z
UID:10001255-1765278000-1765281600@globalminnesota.org
SUMMARY:MIA Tour with the Consulate of Mexico
DESCRIPTION:This free event is being held in-person and is open to Global Minnesota members. This event is now AT CAPACITY.  \nThe Consulate of Mexico in St. Paul invites Global Minnesota members to join in a guided tour of José María Velasco: A View of Mexico at the Minneapolis Institute of Art. This intimate tour will provide a deeper consideration of the work of this prominent Mexican landscapist and naturalist. Spaces are limited\, so advance registration is recommended for this unique opportunity. \nGlobal Minnesota members receive free admission. Members are welcome to bring a guest for free.  \nNot yet a member? Check out the many benefits of membership and join today. \nPlease contact Addy Cross at across@globalminnesota.org for questions or accessibility accommodations.
URL:https://globalminnesota.org/event/mia-tour-with-the-consulate-of-mexico-2/
LOCATION:Minneapolis Institute of Art\, 2400 3rd Ave. S.\, Minneapolis\, 55404\, United States
ATTACH;FMTTYPE=image/jpeg:https://globalminnesota.org/wp-content/uploads/2023/02/MIA-Building.jpg
ORGANIZER;CN="Global Minnesota":MAILTO:info@globalminnesota.org
GEO:44.958509;-93.2735347
X-APPLE-STRUCTURED-LOCATION;VALUE=URI;X-ADDRESS=Minneapolis Institute of Art 2400 3rd Ave. S. Minneapolis 55404 United States;X-APPLE-RADIUS=500;X-TITLE=2400 3rd Ave. S.:geo:-93.2735347,44.958509
END:VEVENT
BEGIN:VEVENT
DTSTART;TZID=America/Chicago:20251120T143000
DTEND;TZID=America/Chicago:20251120T153000
DTSTAMP:20260419T070612
CREATED:20251111T230756Z
LAST-MODIFIED:20251120T155626Z
UID:10001254-1763649000-1763652600@globalminnesota.org
SUMMARY:MIA Tour with the Consulate of Mexico
DESCRIPTION:This free event is being held in-person and is open to Global Minnesota members. This November 20 tour is AT CAPACITY\, but another tour is available on December 9 here.  \nThe Consulate of Mexico in St. Paul invites Global Minnesota members to join in a guided tour of José María Velasco: A View of Mexico at the Minneapolis Institute of Art. This intimate tour will provide a deeper consideration of the work of this prominent Mexican landscapist and naturalist. Spaces are limited\, so advance registration is recommended for this unique opportunity. \nGlobal Minnesota members receive free admission. Members are welcome to bring a guest for free.  \nNot yet a member? Check out the many benefits of membership and join today. \nPlease contact Addy Cross at across@globalminnesota.org for questions or accessibility accommodations.
URL:https://globalminnesota.org/event/mia-tour-with-the-consulate-of-mexico/
LOCATION:Minneapolis Institute of Art\, 2400 3rd Ave. S.\, Minneapolis\, 55404\, United States
ATTACH;FMTTYPE=image/jpeg:https://globalminnesota.org/wp-content/uploads/2023/02/MIA-Building.jpg
ORGANIZER;CN="Global Minnesota":MAILTO:info@globalminnesota.org
GEO:44.958509;-93.2735347
X-APPLE-STRUCTURED-LOCATION;VALUE=URI;X-ADDRESS=Minneapolis Institute of Art 2400 3rd Ave. S. Minneapolis 55404 United States;X-APPLE-RADIUS=500;X-TITLE=2400 3rd Ave. S.:geo:-93.2735347,44.958509
END:VEVENT
BEGIN:VEVENT
DTSTART;TZID=America/Chicago:20240726T140000
DTEND;TZID=America/Chicago:20240726T170000
DTSTAMP:20260419T070612
CREATED:20240717T134950Z
LAST-MODIFIED:20240718T172445Z
UID:10001143-1722002400-1722013200@globalminnesota.org
SUMMARY:Minneapolis Institute of Art Tour Adventure
DESCRIPTION:This event is being held in-person and is open to international and globally-minded students.  \nWould you like to go on a cultural and social adventure while visiting one of the largest art museums in the country? Join Global Minnesota to tour and explore the Minneapolis Institute of Art (Mia) while connecting with international and globally-minded college students. \nThis event will offer a guided tour\, scavenger hunt\, networking bingo\, prizes\, and time to chat. Mia was founded in 1893\, houses a collection of over 90\,000 objects\, and is visited by over half a million people every year. The collection features art produced on six continents around the world. \nAgenda:\n• 1:45-2:00 pm: Arrival and Check-in at Mia Lobby\n• 2:00-3:00 pm: Guided Tour\n• 3:00-3:45 pm: Scavenger Hunt\n• 3:45-4:15 pm: Networking Bingo\n• 4:15-5:00 pm: Prizes\, Group Picture\, and Coffee Chat \nThank you to Mia for their partnership on this event. \nIf you have questions\, require an accessibility accommodation\, or if you are ISSS staff who would like to join\, please contact Jo Mattos at jmattos@globalminnesota.org. 
URL:https://globalminnesota.org/event/minneapolis-institute-of-art-tour-adventure/
LOCATION:Minneapolis Institute of Art\, 2400 3rd Ave. S.\, Minneapolis\, 55404\, United States
ATTACH;FMTTYPE=image/png:https://globalminnesota.org/wp-content/uploads/2024/07/Mia-Tour-Adventure-Website-Banner.png
ORGANIZER;CN="Global Minnesota":MAILTO:info@globalminnesota.org
GEO:44.958509;-93.2735347
X-APPLE-STRUCTURED-LOCATION;VALUE=URI;X-ADDRESS=Minneapolis Institute of Art 2400 3rd Ave. S. Minneapolis 55404 United States;X-APPLE-RADIUS=500;X-TITLE=2400 3rd Ave. S.:geo:-93.2735347,44.958509
END:VEVENT
BEGIN:VEVENT
DTSTART;TZID=America/Chicago:20230513T130000
DTEND;TZID=America/Chicago:20230513T143000
DTSTAMP:20260419T070612
CREATED:20230414T144755Z
LAST-MODIFIED:20230511T143003Z
UID:10001056-1683982800-1683988200@globalminnesota.org
SUMMARY:Tour the Minneapolis Institute of Art
DESCRIPTION:This event is AT CAPACITY. For any questions\, please contact our International Student Engagement Manager Anna DeWitt at adewitt@globalminnesota.org \nBack by popular demand! Join Global Minnesota for a tour of the Minneapolis Institute of Art! \nInternational students and friends are invited to join Global Minnesota for a one-hour\, customized guided tour of the Minneapolis Institute of Art. The tour will highlight unique international and local items from MIA’s incredible art collection. With more than 89\,000 pieces\, MIA’s collection represents every continent and over 5\,000 years of history. The tour will be led by two knowledgeable MIA guides\, including Global Minnesota member and retired career diplomat\, Margo Squire! \nWeather permitting\, after the tour the group will have the option to walk to “Eat Street” (10-15 minute walk). Eat Street is an area known for its diverse selection of restaurants. Continue your exploration of local and international cultures with delicious food options including Mediterranean\, Vietnamese\, Mexican\, and everything in between. The event is free\, but registration is required. The event will take place at the Minneapolis Institute of Art and the tour group will meet in the lobby starting at 12:45 PM. \n  \nAgenda:   \nMeet in the MIA building lobby – 12:45 – 1:00 \nMIA tour – 1:00 – 2:00 \nRegroup – 2:00 – 2:15 \nWalk to Eat Street – 2:15 \n  \nTransportation: \nThe Minneapolis Institute of Art is easily accessible by bus and car. Please reference the map and address at the bottom of the page. \nIf you have any questions about this event or require an accessibility accommodation\, please contact our International Student Engagement Manager Anna DeWitt at adewitt@globalminnesota.
URL:https://globalminnesota.org/event/tour-the-minneapolis-institute-of-art-2/
LOCATION:Minneapolis Institute of Art\, 2400 3rd Ave. S.\, Minneapolis\, 55404\, United States
ATTACH;FMTTYPE=image/jpeg:https://globalminnesota.org/wp-content/uploads/2023/02/MIA-Building-with-Banner-Large.jpg
ORGANIZER;CN="Global Minnesota":MAILTO:info@globalminnesota.org
GEO:44.958509;-93.2735347
X-APPLE-STRUCTURED-LOCATION;VALUE=URI;X-ADDRESS=Minneapolis Institute of Art 2400 3rd Ave. S. Minneapolis 55404 United States;X-APPLE-RADIUS=500;X-TITLE=2400 3rd Ave. S.:geo:-93.2735347,44.958509
END:VEVENT
BEGIN:VEVENT
DTSTART;TZID=America/Chicago:20230401T120000
DTEND;TZID=America/Chicago:20230401T133000
DTSTAMP:20260419T070612
CREATED:20230223T205310Z
LAST-MODIFIED:20230322T200125Z
UID:10001046-1680350400-1680355800@globalminnesota.org
SUMMARY:Tour the Minneapolis Institute of Art
DESCRIPTION:This event is now SOLD OUT. Please reach out to adewitt@globalminnesota with any questions or concerns.  \nInternational students and friends are invited to join Global Minnesota for a one-hour\, customized guided tour of the Minneapolis Institute of Art. The tour will highlight unique international and local items from MIA’s incredible art collection. With more than 89\,000 pieces\, MIA’s collection represents every continent and over 5\,000 years of history. \nWeather permitting\, after the tour the group will have the option to walk to “Eat Street” (10-15 minute walk). Eat Street is an area known for its diverse selection of restaurants. Continue your exploration of local and international cultures with delicious food options including Mediterranean\, Vietnamese\, Mexican\, and everything in between. The event is free\, but registration is required. \n  \nAgenda:   \nMIA tour – 12:00 – 1:00 \nRegroup – 1:00 – 1:15 \nWalk to Eat Street – 1:15 \n  \nTransportation: \nThe Minneapolis Institute of Art is easily accessible by bus and car. Please reference the map and address at the bottom of the page. \n\nIf you have any questions about this event or require an accessibility accommodation\, please contact adewitt@globalminnesota.
URL:https://globalminnesota.org/event/tour-the-minneapolis-institute-of-art/
LOCATION:Minneapolis Institute of Art\, 2400 3rd Ave. S.\, Minneapolis\, 55404\, United States
ATTACH;FMTTYPE=image/jpeg:https://globalminnesota.org/wp-content/uploads/2023/02/MIA-Building-with-Banner-Large.jpg
ORGANIZER;CN="Global Minnesota":MAILTO:info@globalminnesota.org
GEO:44.958509;-93.2735347
X-APPLE-STRUCTURED-LOCATION;VALUE=URI;X-ADDRESS=Minneapolis Institute of Art 2400 3rd Ave. S. Minneapolis 55404 United States;X-APPLE-RADIUS=500;X-TITLE=2400 3rd Ave. S.:geo:-93.2735347,44.958509
END:VEVENT
BEGIN:VEVENT
DTSTART;TZID=America/Chicago:20160316T050000
DTEND;TZID=America/Chicago:20160316T070000
DTSTAMP:20260419T070612
CREATED:20160211T005205Z
LAST-MODIFIED:20160301T164258Z
UID:10000625-1458104400-1458111600@globalminnesota.org
SUMMARY:The Art of Korea: Mia Gallery Tour
DESCRIPTION:Members-only event\nNot a Member of Global Minnesota? Join Today! \nAmong the top five collections in the U.S.\, the Korean art exhibit at the Minneapolis Institute of Art features thousands of pieces ranging from ancient to contemporary. The art is showcased both chronologically and by medium\, highlighting the history of not only the objects themselves but also of a collected process of artistic creation. \nUnique and new to the exhibit are pieces from St. Paul-native Mary Griggs Burke\, who bequeathed her vast collection to Mia and the Metropolitan Museum of Art in New York in 2015. Mia highlights the breadth of this gift by featuring a variety of stunning pieces\, including a luminous celadon Korean maebyong vessel from the 1100s inlaid with a pattern of a crane amid clouds. \nJoin us for a private\, docent-led tour of the exhibit and experience the beauty behind Korean art. Dr. Aaron Rio\, Andrew W. Mellon Assistant Curator of Japanese and Korean Art at Mia will give a special introduction. \nThis private tour will include: \n\nA continental breakfast\nIntroduction by Dr. Aaron Rio\, Assistant Curator\nDocent-led tour of the Korean Galleries in the Mary Griggs Burke Collection\n\nSpace is Limited. Advance Registration is required. \nPhoto courtesy of the Minneapolis Institute of Art.
URL:https://globalminnesota.org/event/the-art-of-korea-mia-gallery-tour/
LOCATION:Minneapolis Institute of Art\, 2400 3rd Ave. S.\, Minneapolis\, 55404\, United States
ATTACH;FMTTYPE=image/jpeg:https://globalminnesota.org/wp-content/uploads/2016/02/10559-1-e1456370161769.jpg
ORGANIZER;CN="Global Minnesota":MAILTO:info@globalminnesota.org
GEO:44.958509;-93.2735347
X-APPLE-STRUCTURED-LOCATION;VALUE=URI;X-ADDRESS=Minneapolis Institute of Art 2400 3rd Ave. S. Minneapolis 55404 United States;X-APPLE-RADIUS=500;X-TITLE=2400 3rd Ave. S.:geo:-93.2735347,44.958509
END:VEVENT
END:VCALENDAR