BEGIN:VCALENDAR
VERSION:2.0
PRODID:-//Global Minnesota - ECPv6.15.17.1//NONSGML v1.0//EN
CALSCALE:GREGORIAN
METHOD:PUBLISH
X-WR-CALNAME:Global Minnesota
X-ORIGINAL-URL:https://globalminnesota.org
X-WR-CALDESC:Events for Global Minnesota
REFRESH-INTERVAL;VALUE=DURATION:PT1H
X-Robots-Tag:noindex
X-PUBLISHED-TTL:PT1H
BEGIN:VTIMEZONE
TZID:America/Chicago
BEGIN:DAYLIGHT
TZOFFSETFROM:-0600
TZOFFSETTO:-0500
TZNAME:CDT
DTSTART:20200308T080000
END:DAYLIGHT
BEGIN:STANDARD
TZOFFSETFROM:-0500
TZOFFSETTO:-0600
TZNAME:CST
DTSTART:20201101T070000
END:STANDARD
BEGIN:DAYLIGHT
TZOFFSETFROM:-0600
TZOFFSETTO:-0500
TZNAME:CDT
DTSTART:20210314T080000
END:DAYLIGHT
BEGIN:STANDARD
TZOFFSETFROM:-0500
TZOFFSETTO:-0600
TZNAME:CST
DTSTART:20211107T070000
END:STANDARD
BEGIN:DAYLIGHT
TZOFFSETFROM:-0600
TZOFFSETTO:-0500
TZNAME:CDT
DTSTART:20220313T080000
END:DAYLIGHT
BEGIN:STANDARD
TZOFFSETFROM:-0500
TZOFFSETTO:-0600
TZNAME:CST
DTSTART:20221106T070000
END:STANDARD
BEGIN:DAYLIGHT
TZOFFSETFROM:-0600
TZOFFSETTO:-0500
TZNAME:CDT
DTSTART:20230312T080000
END:DAYLIGHT
BEGIN:STANDARD
TZOFFSETFROM:-0500
TZOFFSETTO:-0600
TZNAME:CST
DTSTART:20231105T070000
END:STANDARD
BEGIN:DAYLIGHT
TZOFFSETFROM:-0600
TZOFFSETTO:-0500
TZNAME:CDT
DTSTART:20240310T080000
END:DAYLIGHT
BEGIN:STANDARD
TZOFFSETFROM:-0500
TZOFFSETTO:-0600
TZNAME:CST
DTSTART:20241103T070000
END:STANDARD
BEGIN:DAYLIGHT
TZOFFSETFROM:-0600
TZOFFSETTO:-0500
TZNAME:CDT
DTSTART:20250309T080000
END:DAYLIGHT
BEGIN:STANDARD
TZOFFSETFROM:-0500
TZOFFSETTO:-0600
TZNAME:CST
DTSTART:20251102T070000
END:STANDARD
END:VTIMEZONE
BEGIN:VEVENT
DTSTART;TZID=America/Chicago:20241220T153000
DTEND;TZID=America/Chicago:20241220T170000
DTSTAMP:20260423T075208
CREATED:20241211T010249Z
LAST-MODIFIED:20241213T163620Z
UID:10001181-1734708600-1734714000@globalminnesota.org
SUMMARY:Gingerbread Wonderland
DESCRIPTION:This free event is being held in-person and is open to international and globally-minded students. \nStep into the Gingerbread Village and experience the magic of a delectable town built from scratch by bakers of all ages\, abilities\, and backgrounds. Norway House is celebrating 10 years of its beloved community-curated gingerbread town\, inspired by the world’s largest gingerbread village\, “Pepperkakebyen” in Bergen\, Norway. \nThis year’s gingerbread season promises to be extra spectacular for international college students\, with free admission to the Global Minnesota party (normally a $15 ticket). We’re excited to offer students the opportunity to explore the gingerbread village\, enjoy a holiday game with a chance to win Nordic gifts\, and take home delicious gingerbread cookies! Spots for free admission are limited\, so we kindly ask that students who register commit to attending. \nAgenda: \n\n3:30-3:45 PM: Arrival & Check-in\n3:45-4:00 PM: Norway House & Norway Heritage Remarks\n4:00-4:15 PM: Holiday Game & Nordic Gift Giveaway\n4:15-4:45 PM: Gingerbread Wonderland Visit\n4:45-5:00 PM: Voting for Winning Display & Gingerbread Cookies to Go\n\nThank you Norway House for their partnership on this event. \nRegister Here \nIf you have questions about event details\, please contact Jo Mattos.
URL:https://globalminnesota.org/event/gingerbread-wonderland/
LOCATION:Norway House\, 913 East Franklin Ave.\, Minneapolis\, MN\, 55404
ATTACH;FMTTYPE=image/png:https://globalminnesota.org/wp-content/uploads/2024/12/Gingerbread-Wonderland-Webpage-Banner.png
ORGANIZER;CN="Global Minnesota":MAILTO:info@globalminnesota.org
GEO:44.9625213;-93.2602934
X-APPLE-STRUCTURED-LOCATION;VALUE=URI;X-ADDRESS=Norway House 913 East Franklin Ave. Minneapolis MN 55404;X-APPLE-RADIUS=500;X-TITLE=913 East Franklin Ave.:geo:-93.2602934,44.9625213
END:VEVENT
BEGIN:VEVENT
DTSTART;TZID=America/Chicago:20210812T180000
DTEND;TZID=America/Chicago:20210812T200000
DTSTAMP:20260423T075208
CREATED:20210719T161351Z
LAST-MODIFIED:20210721T034041Z
UID:10000937-1628791200-1628798400@globalminnesota.org
SUMMARY:Book Talk: Skiing Into the Bright Open\, by Liv Arnesen
DESCRIPTION:Presented by Norway House\, join us for a free virtual and in-person discussion with Norway House’s 2020 Going Viking Honoree Liv Arnesen as she presents her new book “Skiing Into the Bright Open\,” which details her solo journey to the South Pole. \nA tale of solitary adventure in the bleak and beautiful bone-chilling cold of Antarctica\, “Skiing into the Bright Open” tells a story of gritty determination\, thrilling achievement\, and perseverance in the face of near despair and daunting odds; it is\, ultimately\, an object lesson in the power of a dream if one is willing to pursue it to the ends of the earth. \nFollowing the presentation will be a moderated discussion and Q&A session with Liv led by Global Minnesota President Mark Ritchie. \nREGISTER\nCopies of “Skiing Into the Bright Open” will be available for purchase at the event. \nPresented in partnership with Norway House.
URL:https://globalminnesota.org/event/book-talk-skiing-into-the-bright-open-by-liv-arnesen/
LOCATION:Norway House\, 913 East Franklin Ave.\, Minneapolis\, MN\, 55404
ATTACH;FMTTYPE=image/jpeg:https://globalminnesota.org/wp-content/uploads/2021/07/Norway-House-book-event_Liv-Arnesen-e1626710440913.jpg
GEO:44.9625213;-93.2602934
X-APPLE-STRUCTURED-LOCATION;VALUE=URI;X-ADDRESS=Norway House 913 East Franklin Ave. Minneapolis MN 55404;X-APPLE-RADIUS=500;X-TITLE=913 East Franklin Ave.:geo:-93.2602934,44.9625213
END:VEVENT
END:VCALENDAR