BEGIN:VCALENDAR
VERSION:2.0
PRODID:-//Global Minnesota - ECPv6.15.17.1//NONSGML v1.0//EN
CALSCALE:GREGORIAN
METHOD:PUBLISH
X-ORIGINAL-URL:https://globalminnesota.org
X-WR-CALDESC:Events for Global Minnesota
REFRESH-INTERVAL;VALUE=DURATION:PT1H
X-Robots-Tag:noindex
X-PUBLISHED-TTL:PT1H
BEGIN:VTIMEZONE
TZID:America/Chicago
BEGIN:DAYLIGHT
TZOFFSETFROM:-0600
TZOFFSETTO:-0500
TZNAME:CDT
DTSTART:20220313T080000
END:DAYLIGHT
BEGIN:STANDARD
TZOFFSETFROM:-0500
TZOFFSETTO:-0600
TZNAME:CST
DTSTART:20221106T070000
END:STANDARD
BEGIN:DAYLIGHT
TZOFFSETFROM:-0600
TZOFFSETTO:-0500
TZNAME:CDT
DTSTART:20230312T080000
END:DAYLIGHT
BEGIN:STANDARD
TZOFFSETFROM:-0500
TZOFFSETTO:-0600
TZNAME:CST
DTSTART:20231105T070000
END:STANDARD
BEGIN:DAYLIGHT
TZOFFSETFROM:-0600
TZOFFSETTO:-0500
TZNAME:CDT
DTSTART:20240310T080000
END:DAYLIGHT
BEGIN:STANDARD
TZOFFSETFROM:-0500
TZOFFSETTO:-0600
TZNAME:CST
DTSTART:20241103T070000
END:STANDARD
END:VTIMEZONE
BEGIN:VEVENT
DTSTART;TZID=America/Chicago:20230221T180000
DTEND;TZID=America/Chicago:20230221T200000
DTSTAMP:20260420T134436
CREATED:20221215T165533Z
LAST-MODIFIED:20230111T145931Z
UID:10001034-1677002400-1677009600@globalminnesota.org
SUMMARY:Culture Through Cuisine: Uzbekistan
DESCRIPTION:This event is now SOLD OUT.   \n  \nExperience the vibrant culture and unique tastes of Uzbekistan at the next Culture through Cuisine! You’ll enjoy an evening of Central Asian food at Samarkand restaurant and hear from restaurant owner Aziz Radjabov about Uzbek culture and his experience living in Minnesota. \nSample a delicious dinner of Uzbek pastry\, bread\, dumplings\, salad\, kebabs\, and pahlava dessert cake. Ticket price includes traditional Uzbek tea\, coffee\, and soft drinks. A selection of beer and regional wines will also be available for purchase separately. \n  \nSpeaker:\nOwner: Aziz Radjabov \nIf you require an accessibility accommodation\, please contact our Program Director Tim Odegard at todegard@globalminnesota.org.  \nMenu\nAppetizers:\nSamsa (Uzbek traditional puff pastry filled with ground beef mix)\n\nMantu (steamed dumpling with ground beef and onion)\n\nTraditional Bread\n\n\nSalad:\nAchchik-chuchuk (tomatoes and onions with spices) \n\n\nEntrees:\nPlov Samarkand (Rice\, beef\, currants\, garlic\, onions\, carrots\, and spices)\n\nShish Kebabs – Beef (Lyulya) and Chicken\n\n\nBroiled Cornish Hen with tomato-garlic sauce\n\n\nDessert:\nPahlava (honey-walnut cake)
URL:https://globalminnesota.org/event/culture-through-cuisine-uzbekistan/
LOCATION:Samarkand\, 16 Nathan Lane North\, Plymouth\, 55441
ATTACH;FMTTYPE=image/jpeg:https://globalminnesota.org/wp-content/uploads/2022/12/Uzbek-Samarkand_2.jpg
ORGANIZER;CN="Global Minnesota":MAILTO:info@globalminnesota.org
GEO:44.9791943;-93.4075674
X-APPLE-STRUCTURED-LOCATION;VALUE=URI;X-ADDRESS=Samarkand 16 Nathan Lane North Plymouth 55441;X-APPLE-RADIUS=500;X-TITLE=16 Nathan Lane North:geo:-93.4075674,44.9791943
END:VEVENT
END:VCALENDAR