BEGIN:VCALENDAR
VERSION:2.0
PRODID:-//Global Minnesota - ECPv6.15.17.1//NONSGML v1.0//EN
CALSCALE:GREGORIAN
METHOD:PUBLISH
X-ORIGINAL-URL:https://globalminnesota.org
X-WR-CALDESC:Events for Global Minnesota
REFRESH-INTERVAL;VALUE=DURATION:PT1H
X-Robots-Tag:noindex
X-PUBLISHED-TTL:PT1H
BEGIN:VTIMEZONE
TZID:America/Chicago
BEGIN:DAYLIGHT
TZOFFSETFROM:-0600
TZOFFSETTO:-0500
TZNAME:CDT
DTSTART:20240310T080000
END:DAYLIGHT
BEGIN:STANDARD
TZOFFSETFROM:-0500
TZOFFSETTO:-0600
TZNAME:CST
DTSTART:20241103T070000
END:STANDARD
BEGIN:DAYLIGHT
TZOFFSETFROM:-0600
TZOFFSETTO:-0500
TZNAME:CDT
DTSTART:20250309T080000
END:DAYLIGHT
BEGIN:STANDARD
TZOFFSETFROM:-0500
TZOFFSETTO:-0600
TZNAME:CST
DTSTART:20251102T070000
END:STANDARD
BEGIN:DAYLIGHT
TZOFFSETFROM:-0600
TZOFFSETTO:-0500
TZNAME:CDT
DTSTART:20260308T080000
END:DAYLIGHT
BEGIN:STANDARD
TZOFFSETFROM:-0500
TZOFFSETTO:-0600
TZNAME:CST
DTSTART:20261101T070000
END:STANDARD
BEGIN:DAYLIGHT
TZOFFSETFROM:-0600
TZOFFSETTO:-0500
TZNAME:CDT
DTSTART:20270314T080000
END:DAYLIGHT
BEGIN:STANDARD
TZOFFSETFROM:-0500
TZOFFSETTO:-0600
TZNAME:CST
DTSTART:20271107T070000
END:STANDARD
END:VTIMEZONE
BEGIN:VEVENT
DTSTART;TZID=America/Chicago:20260107T160000
DTEND;TZID=America/Chicago:20260107T180000
DTSTAMP:20260424T020237
CREATED:20251208T173750Z
LAST-MODIFIED:20260105T142804Z
UID:10001260-1767801600-1767808800@globalminnesota.org
SUMMARY:New Year's & Networking for Global Professionals
DESCRIPTION:This free event is being held in-person and is open to members\, friends\, and development and foreign affairs professionals. Registration is now CLOSED. Please email Erin Hart at ehart@globalminnesota.org if you are interested in attending. \nJoin us for a New Year’s celebration and networking with the foreign affairs and development community in Minnesota! We will gather to celebrate and connect after a year of challenge and opportunity. We will also hear from local professionals who have done a career pivot this year. Whether you are a returning international affairs or development professional\, a graduating student\, or simply curious to learn about the wide variety of global career paths\, this interactive networking event is perfect for planning your next steps. \nGather together between 4:00 to 6:00pm at Sociable Cider Werks for networking\, perspectives on career transitions\, and to share the welcoming atmosphere of Minnesota’s global community. \nGlobal Minnesota members and former or current foreign affairs professionals receive free admission. Members are welcome to bring a guest for free.  \nNot yet a member? Check out the many benefits of membership and join today. \nPlease contact Addy Cross at across@globalminnesota.org for questions or accessibility accommodations. \nThank you to event co-sponsors Career Pivot and the Minnesota International NGO Network! \nCareer Pivot is a community of action centered around empowering jobseekers from the international development sector\, federal workforce\, and social impact space as they navigate the next stages of their careers. We partner with recruiters\, coaches\, and other experts to provide practical guidance on everything from leveraging AI tools to networking strategies\, while highlighting stories of people who have successfully pivoted into new careers.
URL:https://globalminnesota.org/event/new-years-and-networking/
LOCATION:Sociable Cider Werks\, 1500 Fillmore St NE\, Minneapolis\, 55413\, United States
ATTACH;FMTTYPE=image/jpeg:https://globalminnesota.org/wp-content/uploads/2025/12/2025-Global-Social-scaled.jpg
ORGANIZER;CN="Global Minnesota":MAILTO:info@globalminnesota.org
END:VEVENT
BEGIN:VEVENT
DTSTART;TZID=America/Chicago:20251112T160000
DTEND;TZID=America/Chicago:20251112T180000
DTSTAMP:20260424T020237
CREATED:20251031T182949Z
LAST-MODIFIED:20251110T143058Z
UID:10001252-1762963200-1762970400@globalminnesota.org
SUMMARY:Global Social with International Affairs Professionals
DESCRIPTION:This free event is being held in-person and is open to Global Minnesota members and former or current foreign affairs professionals. \nAs lifelong foreign affairs experts return to Minnesota\, many are seeking opportunities for new connections and career paths. \nJoin us for a Global Social featuring some of Minnesota’s newly-returned international affairs professionals. Gather together between 4:00 to 6:00pm at Sociable Cider Werks for networking\, advice on transitioning to new careers\, and to share the welcoming atmosphere of Minnesota’s global community. \nGlobal Minnesota members and former or current foreign affairs professionals receive free admission. Members are welcome to bring a guest for free.  \nNot yet a member? Check out the many benefits of membership and join today. \nRegister Here \nPlease contact Addy Cross at across@globalminnesota.org for questions or accessibility accommodations.
URL:https://globalminnesota.org/event/global-social-with-international-affairs-professionals/
LOCATION:Sociable Cider Werks\, 1500 Fillmore St NE\, Minneapolis\, 55413\, United States
ATTACH;FMTTYPE=image/jpeg:https://globalminnesota.org/wp-content/uploads/2019/07/MNG_3.14.19-072.jpg
ORGANIZER;CN="Global Minnesota":MAILTO:info@globalminnesota.org
END:VEVENT
END:VCALENDAR